BEGIN:VCALENDAR
VERSION:2.0
PRODID:-//ddaysoftware.com//NONSGML DDay.iCal 1.0//EN
BEGIN:VTIMEZONE
TZID:W. Europe Standard Time
BEGIN:STANDARD
DTSTART:20251002T030000
RRULE:FREQ=YEARLY;BYDAY=-1SU;BYHOUR=3;BYMINUTE=0;BYMONTH=10
TZNAME:Mitteleuropäische Zeit
TZOFFSETFROM:+0200
TZOFFSETTO:+0100
END:STANDARD
BEGIN:DAYLIGHT
DTSTART:20250301T020000
RRULE:FREQ=YEARLY;BYDAY=-1SU;BYHOUR=2;BYMINUTE=0;BYMONTH=3
TZNAME:Mitteleuropäische Sommerzeit
TZOFFSETFROM:+0100
TZOFFSETTO:+0200
END:DAYLIGHT
END:VTIMEZONE
BEGIN:VEVENT
CATEGORIES:GesundheitsregionPlus
DESCRIPTION:Diabetes mellitus\, eine der bedeutendsten Volkskrankheiten\, k
 ündigt sich bei Frauen oft schon in jungen Jahren an\, erhält dann aber me
 ist nicht die Aufmerksamkeit\, die zur Vorsorge und Behandlung notwendig w
 äre.\n\nVeranstalter: GesundheitsregionPlus Landkreis Kelheim\n\nhttps://w
 ww.gesundheitsregionplus-kelheim.de/aktuelles-informationen/veranstaltunge
 n/zuckererkrankung-bei-der-frau-was-ist-anders/
DTEND:20241106T193000
DTSTAMP:20260421T085537Z
DTSTART:20241106T180000
LOCATION:Haus des Gastes Riedenburg: Marktplatz 1\, 93339 Riedenburg
SEQUENCE:0
SUMMARY:Zuckererkrankung bei der Frau –  was ist anders?
UID:37786
URL:https://www.gesundheitsregionplus-kelheim.de/aktuelles-informationen/ve
 ranstaltungen/zuckererkrankung-bei-der-frau-was-ist-anders/
END:VEVENT
END:VCALENDAR
