BEGIN:VCALENDAR
VERSION:2.0
PRODID:-//ddaysoftware.com//NONSGML DDay.iCal 1.0//EN
BEGIN:VTIMEZONE
TZID:W. Europe Standard Time
BEGIN:STANDARD
DTSTART:20251002T030000
RRULE:FREQ=YEARLY;BYDAY=-1SU;BYHOUR=3;BYMINUTE=0;BYMONTH=10
TZNAME:Mitteleuropäische Zeit
TZOFFSETFROM:+0200
TZOFFSETTO:+0100
END:STANDARD
BEGIN:DAYLIGHT
DTSTART:20250301T020000
RRULE:FREQ=YEARLY;BYDAY=-1SU;BYHOUR=2;BYMINUTE=0;BYMONTH=3
TZNAME:Mitteleuropäische Sommerzeit
TZOFFSETFROM:+0100
TZOFFSETTO:+0200
END:DAYLIGHT
END:VTIMEZONE
BEGIN:VEVENT
CATEGORIES:GesundheitsregionPlus
DESCRIPTION:Sind meine Eltern oder andere Angehörige schon pflegebedürftig 
 oder brauchen Sie nur etwas Unterstützung im Alltag? Häufig herrscht Unkla
 rheit bei der Frage\, welche Versorgung und Hilfe Menschen benötigen. Eine
  Folge: Jeder 5. Pflegeantrag ist erfolglos.\n\nVeranstalter: Gesundheitsr
 egionPlus Landkreis Kelheim\n\nhttps://www.gesundheitsregionplus-kelheim.d
 e/aktuelles-informationen/veranstaltungen/vortrag-pflegebeduerftig-ja-nein
 -ab-wann-erst-beraten-lassen-dann-pflegeantrag-stellen-2/
DTEND:20250320T190000
DTSTAMP:20260420T082147Z
DTSTART:20250320T180000
LOCATION:Gasthaus zur Post Riedenburg: Marktplatz 3\, 93339 Riedenburg
SEQUENCE:0
SUMMARY:Vortrag "Pflegebedürftig? - Ja\, Nein\, ab wann? Erst beraten lasse
 n\, dann Pflegeantrag stellen!"
UID:40096
URL:https://www.gesundheitsregionplus-kelheim.de/aktuelles-informationen/ve
 ranstaltungen/vortrag-pflegebeduerftig-ja-nein-ab-wann-erst-beraten-lassen
 -dann-pflegeantrag-stellen-2/
END:VEVENT
END:VCALENDAR
